BEGIN:VCALENDAR
VERSION:2.0
PRODID:-//The Underwater Outlaws - ECPv6.15.20//NONSGML v1.0//EN
CALSCALE:GREGORIAN
METHOD:PUBLISH
X-ORIGINAL-URL:https://underwateroutlaws.com
X-WR-CALDESC:Events for The Underwater Outlaws
REFRESH-INTERVAL;VALUE=DURATION:PT1H
X-Robots-Tag:noindex
X-PUBLISHED-TTL:PT1H
BEGIN:VTIMEZONE
TZID:America/Denver
BEGIN:DAYLIGHT
TZOFFSETFROM:-0700
TZOFFSETTO:-0600
TZNAME:MDT
DTSTART:20250309T090000
END:DAYLIGHT
BEGIN:STANDARD
TZOFFSETFROM:-0600
TZOFFSETTO:-0700
TZNAME:MST
DTSTART:20251102T080000
END:STANDARD
BEGIN:DAYLIGHT
TZOFFSETFROM:-0700
TZOFFSETTO:-0600
TZNAME:MDT
DTSTART:20260308T090000
END:DAYLIGHT
BEGIN:STANDARD
TZOFFSETFROM:-0600
TZOFFSETTO:-0700
TZNAME:MST
DTSTART:20261101T080000
END:STANDARD
BEGIN:DAYLIGHT
TZOFFSETFROM:-0700
TZOFFSETTO:-0600
TZNAME:MDT
DTSTART:20270314T090000
END:DAYLIGHT
BEGIN:STANDARD
TZOFFSETFROM:-0600
TZOFFSETTO:-0700
TZNAME:MST
DTSTART:20271107T080000
END:STANDARD
END:VTIMEZONE
BEGIN:VEVENT
DTSTART;TZID=America/Denver:20261205T100000
DTEND;TZID=America/Denver:20261205T140000
DTSTAMP:20260424T082418
CREATED:20230503T024635Z
LAST-MODIFIED:20260113T062834Z
UID:395-1796464800-1796479200@underwateroutlaws.com
SUMMARY:Last Dive of the Season
DESCRIPTION:Last Dive\nThis event is dedicated to Rob Mills who passed in the fall of 2012\, he was one of us nutters who just have to get one last dive in before the season is over\, even if we had to shovel a path to the lake. \nReady for a cool dive experience? Join us for the last dive of the year. Meet at the Minniwanka plaque site. Arrive between 9-10\, dive briefing at 10am. Do 1 or 2 dives\, depending on your buddy. Dress for the weather. Carpooling is suggested\, there is limited parking.If water is frozen\, we head for lunch instead. Hot water/hot chocolate provided. \nWe plan on one (1) dive\, more for those brave soles that came prepared with heaters and hot water to thaw gear out for a second. \n\nLOCATION: Lake Minnewanka Plaque Site\n10:00 am\nBanff\, Alberta
URL:https://underwateroutlaws.com/events/last-dive-of-the-season/
LOCATION:Lake Minnewanka Plaque Site\, Lake Minnewanka Plaque Site\, Alberta\, Canada
CATEGORIES:Diving Events
ATTACH;FMTTYPE=image/png:https://underwateroutlaws.com/wp-content/uploads/2024/03/Event-Feature-day.png
ORGANIZER;CN="Ken Benoy":MAILTO:ken@underwateroutlaws.com
END:VEVENT
END:VCALENDAR