BEGIN:VCALENDAR
VERSION:2.0
PRODID:-//The Underwater Outlaws - ECPv6.15.20//NONSGML v1.0//EN
CALSCALE:GREGORIAN
METHOD:PUBLISH
X-WR-CALNAME:The Underwater Outlaws
X-ORIGINAL-URL:https://underwateroutlaws.com
X-WR-CALDESC:Events for The Underwater Outlaws
REFRESH-INTERVAL;VALUE=DURATION:PT1H
X-Robots-Tag:noindex
X-PUBLISHED-TTL:PT1H
BEGIN:VTIMEZONE
TZID:America/Denver
BEGIN:DAYLIGHT
TZOFFSETFROM:-0700
TZOFFSETTO:-0600
TZNAME:MDT
DTSTART:20250309T090000
END:DAYLIGHT
BEGIN:STANDARD
TZOFFSETFROM:-0600
TZOFFSETTO:-0700
TZNAME:MST
DTSTART:20251102T080000
END:STANDARD
BEGIN:DAYLIGHT
TZOFFSETFROM:-0700
TZOFFSETTO:-0600
TZNAME:MDT
DTSTART:20260308T090000
END:DAYLIGHT
BEGIN:STANDARD
TZOFFSETFROM:-0600
TZOFFSETTO:-0700
TZNAME:MST
DTSTART:20261101T080000
END:STANDARD
BEGIN:DAYLIGHT
TZOFFSETFROM:-0700
TZOFFSETTO:-0600
TZNAME:MDT
DTSTART:20270314T090000
END:DAYLIGHT
BEGIN:STANDARD
TZOFFSETFROM:-0600
TZOFFSETTO:-0700
TZNAME:MST
DTSTART:20271107T080000
END:STANDARD
END:VTIMEZONE
BEGIN:VEVENT
DTSTART;VALUE=DATE:20260807
DTEND;VALUE=DATE:20260811
DTSTAMP:20260424T162913
CREATED:20230503T023423Z
LAST-MODIFIED:20260120T060822Z
UID:384-1786060800-1786406399@underwateroutlaws.com
SUMMARY:Waterton Camping Weekend
DESCRIPTION:Ron McKindsey Camping Weekend\nThis event was created in memory of Ron McKindsey and is a time to honour his impact to the club and dive industry by coming together to continue to dive and build the club!  Come join us and spend the weekend in the Waterton National Park. \nWe have block booked some sites at Crooked Creek Campground.\nLast year the RV sites were $39 per RV\, $30 per unserviced site\, and $28 per tent site. All sites are subject to an additional 5% GST and $8 third party booking fee. Sites that have more than 2 adults and 2 kids will have an additional $5 / adult / night. \nIn order to book your site\, please book thru the campground at: https://letscamp.ca/camps/crooked-creek-campground \nInclude: Subject: Underwater Outlaws camp August 8-11th\, 2025\nYour name\, Address\, email and contact phone number\nDo not include your credit card information. Murray will phone you directly to complete the booking. \nStart the day off with a pancake breakfast\, then there will be 2 dives Saturday and then 1 dive on Sunday in Cameron and Emerald bays. \nThe highlight of the weekend is the potluck dinner on Saturday evening. Bring your favorite camping comfort food dish to share. \nBring you best campfire songs since last year we put the cook house to good use! \n\nLOCATION: Crooked Creek Campground
URL:https://underwateroutlaws.com/events/the-ron-mckindsey-camping-weekend/
LOCATION:Crooked Creek Campground\, Waterton\, Range Rd 292 at Hwy. 5\, Waterton Park\, Alberta\, Canada
CATEGORIES:Camping Events
ATTACH;FMTTYPE=image/png:https://underwateroutlaws.com/wp-content/uploads/2024/03/Event-Feature-camp.png
ORGANIZER;CN="Ken Benoy":MAILTO:ken@underwateroutlaws.com
END:VEVENT
END:VCALENDAR