BEGIN:VCALENDAR
VERSION:2.0
PRODID:-//The Underwater Outlaws - ECPv6.15.20//NONSGML v1.0//EN
CALSCALE:GREGORIAN
METHOD:PUBLISH
X-ORIGINAL-URL:https://underwateroutlaws.com
X-WR-CALDESC:Events for The Underwater Outlaws
REFRESH-INTERVAL;VALUE=DURATION:PT1H
X-Robots-Tag:noindex
X-PUBLISHED-TTL:PT1H
BEGIN:VTIMEZONE
TZID:America/Denver
BEGIN:DAYLIGHT
TZOFFSETFROM:-0700
TZOFFSETTO:-0600
TZNAME:MDT
DTSTART:20240310T090000
END:DAYLIGHT
BEGIN:STANDARD
TZOFFSETFROM:-0600
TZOFFSETTO:-0700
TZNAME:MST
DTSTART:20241103T080000
END:STANDARD
BEGIN:DAYLIGHT
TZOFFSETFROM:-0700
TZOFFSETTO:-0600
TZNAME:MDT
DTSTART:20250309T090000
END:DAYLIGHT
BEGIN:STANDARD
TZOFFSETFROM:-0600
TZOFFSETTO:-0700
TZNAME:MST
DTSTART:20251102T080000
END:STANDARD
BEGIN:DAYLIGHT
TZOFFSETFROM:-0700
TZOFFSETTO:-0600
TZNAME:MDT
DTSTART:20260308T090000
END:DAYLIGHT
BEGIN:STANDARD
TZOFFSETFROM:-0600
TZOFFSETTO:-0700
TZNAME:MST
DTSTART:20261101T080000
END:STANDARD
END:VTIMEZONE
BEGIN:VEVENT
DTSTART;TZID=America/Denver:20250706T130000
DTEND;TZID=America/Denver:20250706T150000
DTSTAMP:20260424T191536
CREATED:20230425T022725Z
LAST-MODIFIED:20250129T015916Z
UID:287-1751806800-1751814000@underwateroutlaws.com
SUMMARY:Gear SWAP & Social
DESCRIPTION:Underwater Outlaws Gear SWAP\nSpring Cleaning and Dive Gear Exchange go hand in hand! Clean out your gently used dive gear for someone else to love! Bring it to our The Underwater Outlaws Annual Gear Exchange in person social event at the Lake Chaparral clubhouse. \nYou can also come and purchase any gear that you might be lacking at great used prices !! \nPlus this is a great opportunity to just reconnect with all of your local dive buddies socially !! So even if you have nothing to sell or nothing to purchase\, come anyway to enjoy scuba divers company. \nAre you looking for something in particular?? Post it on the Underwater Outlaws Facebook events page. Maybe someone will have one !!!
URL:https://underwateroutlaws.com/events/gear-swap-social/
LOCATION:Lake Chaparral Community Center\, 225 Chaparral Drive SE\, Calgary\, Alberta\, Canada
CATEGORIES:Non Diving Events
ATTACH;FMTTYPE=image/png:https://underwateroutlaws.com/wp-content/uploads/2024/03/Event-Feature-pub.png
END:VEVENT
END:VCALENDAR