BEGIN:VCALENDAR
VERSION:2.0
PRODID:-//The Underwater Outlaws - ECPv6.15.20//NONSGML v1.0//EN
CALSCALE:GREGORIAN
METHOD:PUBLISH
X-WR-CALNAME:The Underwater Outlaws
X-ORIGINAL-URL:https://underwateroutlaws.com
X-WR-CALDESC:Events for The Underwater Outlaws
REFRESH-INTERVAL;VALUE=DURATION:PT1H
X-Robots-Tag:noindex
X-PUBLISHED-TTL:PT1H
BEGIN:VTIMEZONE
TZID:America/Denver
BEGIN:DAYLIGHT
TZOFFSETFROM:-0700
TZOFFSETTO:-0600
TZNAME:MDT
DTSTART:20230312T090000
END:DAYLIGHT
BEGIN:STANDARD
TZOFFSETFROM:-0600
TZOFFSETTO:-0700
TZNAME:MST
DTSTART:20231105T080000
END:STANDARD
BEGIN:DAYLIGHT
TZOFFSETFROM:-0700
TZOFFSETTO:-0600
TZNAME:MDT
DTSTART:20240310T090000
END:DAYLIGHT
BEGIN:STANDARD
TZOFFSETFROM:-0600
TZOFFSETTO:-0700
TZNAME:MST
DTSTART:20241103T080000
END:STANDARD
BEGIN:DAYLIGHT
TZOFFSETFROM:-0700
TZOFFSETTO:-0600
TZNAME:MDT
DTSTART:20250309T090000
END:DAYLIGHT
BEGIN:STANDARD
TZOFFSETFROM:-0600
TZOFFSETTO:-0700
TZNAME:MST
DTSTART:20251102T080000
END:STANDARD
BEGIN:DAYLIGHT
TZOFFSETFROM:-0700
TZOFFSETTO:-0600
TZNAME:MDT
DTSTART:20260308T090000
END:DAYLIGHT
BEGIN:STANDARD
TZOFFSETFROM:-0600
TZOFFSETTO:-0700
TZNAME:MST
DTSTART:20261101T080000
END:STANDARD
BEGIN:DAYLIGHT
TZOFFSETFROM:-0700
TZOFFSETTO:-0600
TZNAME:MDT
DTSTART:20270314T090000
END:DAYLIGHT
BEGIN:STANDARD
TZOFFSETFROM:-0600
TZOFFSETTO:-0700
TZNAME:MST
DTSTART:20271107T080000
END:STANDARD
END:VTIMEZONE
BEGIN:VEVENT
DTSTART;TZID=America/Denver:20260131T110000
DTEND;TZID=America/Denver:20260201T140000
DTSTAMP:20260424T080700
CREATED:20240308T023930Z
LAST-MODIFIED:20260120T060646Z
UID:599-1769857200-1769954400@underwateroutlaws.com
SUMMARY:Polar Plunge
DESCRIPTION:Join the TDS freedivers in a polar plunge. 11am-2pm (times confirmed). \nIce shore support\, hot beverages\, snacks and a warming tent will be available for all participants! \nThere are no fees. But you can use this as a fundraiser for the charity of your choice\, or just donate on your way down!
URL:https://underwateroutlaws.com/events/polar-plunge/
LOCATION:Lake Minnewanka – Cliffs Dive Site\, Lake Minnewanka Tours\, Alberta\, Canada
CATEGORIES:Diving Events
ATTACH;FMTTYPE=image/jpeg:https://underwateroutlaws.com/wp-content/uploads/2024/03/422397004_10168178602255696_5696251843624927867_n.jpg
ORGANIZER;CN="The Dive Shop":MAILTO:scuba@diveshopscuba.com
END:VEVENT
BEGIN:VEVENT
DTSTART;TZID=America/Denver:20251018T100000
DTEND;TZID=America/Denver:20251018T150000
DTSTAMP:20260424T080700
CREATED:20230503T024257Z
LAST-MODIFIED:20250129T020204Z
UID:390-1760781600-1760799600@underwateroutlaws.com
SUMMARY:Underwater Pumpkin Carving
DESCRIPTION:Pumpkin Carving\nWHERE: Lake Chaparral Community Centre – 225 Chaparral Drive SE\, Calgary AB \nWHO: Underwater Outlaws Scuba Social Club Members \n\nDivers must be paid up club members in good standing – Membership renewals online or cash on the beach – $40.00\nNew members – Please join the club online in advance.\n\nWHAT: Underwater Pumpkin Carving. \n\nBring your own pumpkin and carving tools.\nBring a bag to collect your pumpkin guts underwater. They float.\nYou can draw on your pumpkin before the dive\, but you cannot cut your pumpkin before the dive.\n\nTIME: 9:30am to 10:00am\, Registration\, liability waivers\, membership confirmation and gear up. \n\n10:30 am Sharp – Dive briefing & buddy teams.\n10:45 to 11:45 – Dive and Carve\n12:00 noon: Hot Dogs and Hot Chocolate\n12:30 – Pumpkin judging and group photos\n\nPRIZE: There is a prize for the best pumpkin. \nWEATHER: if it is snowing this event is canceled. If it’s raining this event is a GO. \nRSVP: through the Face Book Event so we know how many to expect. Please help us promote the event by sharing the Facebook event and inviting your buddies. For more information check the Underwater Outlaws Facebook Group page.
URL:https://underwateroutlaws.com/events/underwater-pumpkin-carving/
LOCATION:Lake Chaparral Community Centre\, 225 Chaparral Drive SE\, Calgary\, Alberta\, Canada
CATEGORIES:Diving Events
ATTACH;FMTTYPE=image/png:https://underwateroutlaws.com/wp-content/uploads/2024/03/Event-Feature-day.png
END:VEVENT
BEGIN:VEVENT
DTSTART;TZID=America/Denver:20240721T090000
DTEND;TZID=America/Denver:20240721T150000
DTSTAMP:20260424T080700
CREATED:20240716T022902Z
LAST-MODIFIED:20240716T022946Z
UID:946-1721552400-1721574000@underwateroutlaws.com
SUMMARY:Aqua Dive Guided Tour - Banff
DESCRIPTION:New to diving? No problem! \nIf you never dove in the Banff are or are looking for an excuse to go for a little trip\, this is a great opportunity! \nContact Aqua Dive and Watersports to book your spot at (587) 353-3483 or aquadivewatersports@outlook.com
URL:https://underwateroutlaws.com/events/aqua-dive-guided-tour-banff/
LOCATION:Lake Minnewanka Plaque Site\, Lake Minnewanka Plaque Site\, Alberta\, Canada
CATEGORIES:Diving Events
ATTACH;FMTTYPE=image/png:https://underwateroutlaws.com/wp-content/uploads/2024/07/Aqua-Dive-e1721096570217.png
ORGANIZER;CN="Aqua Dive and Watersports":MAILTO:aquadivewatersports@outlook.com
END:VEVENT
BEGIN:VEVENT
DTSTART;TZID=America/Denver:20240720T100000
DTEND;TZID=America/Denver:20240720T170000
DTSTAMP:20260424T080700
CREATED:20240716T021749Z
LAST-MODIFIED:20240716T021936Z
UID:935-1721469600-1721494800@underwateroutlaws.com
SUMMARY:The Dive Shop - Women's Dive Day
DESCRIPTION:Come celebrate Women’s Dive Day with The Dive Shop! Scuba and freedivers welcome!\nDiscounted rentals\, snacks\, and draw prizes! \nCall the shop to get on the roster 403-243-4616\nParking fills quickly so you will want to be early!
URL:https://underwateroutlaws.com/events/the-dive-shop-womens-dive-day/
LOCATION:Forget-Me-Not Pond\, Forgetmenot Pond\, Alberta\, Canada
CATEGORIES:Diving Events
ATTACH;FMTTYPE=image/jpeg:https://underwateroutlaws.com/wp-content/uploads/2024/04/DS_Logo_col-e1721096354759.jpg
ORGANIZER;CN="The Dive Shop":MAILTO:scuba@diveshopscuba.com
END:VEVENT
BEGIN:VEVENT
DTSTART;TZID=America/Denver:20240713T090000
DTEND;TZID=America/Denver:20240713T150000
DTSTAMP:20260424T080700
CREATED:20240716T022346Z
LAST-MODIFIED:20240716T023040Z
UID:940-1720861200-1720882800@underwateroutlaws.com
SUMMARY:Aqua Dive Guided Tour - Waterton
DESCRIPTION:New to diving? No problem! \nIf you never dove in Waterton before this is a great chance to see the area and all it has to offer! \nContact Aqua Dive and Watersports to book your spot at (587) 353-3483 or aquadivewatersports@outlook.com
URL:https://underwateroutlaws.com/events/aqua-dive-guided-tour-waterton/
LOCATION:Camron Bay\, Waterton Alberta\, Waterton\, Alberta\, Canada
CATEGORIES:Diving Events
ATTACH;FMTTYPE=image/png:https://underwateroutlaws.com/wp-content/uploads/2024/07/Aqua-Dive-e1721096570217.png
ORGANIZER;CN="Aqua Dive and Watersports":MAILTO:aquadivewatersports@outlook.com
END:VEVENT
BEGIN:VEVENT
DTSTART;TZID=America/Denver:20240511T100000
DTEND;TZID=America/Denver:20240511T170000
DTSTAMP:20260424T080700
CREATED:20240428T023858Z
LAST-MODIFIED:20240428T023858Z
UID:775-1715421600-1715446800@underwateroutlaws.com
SUMMARY:The Dive Shop Spring Lake Clean-Up
DESCRIPTION:Come join The Dive Shop at Lake Chaparral for the season opener lake clean-up!\nMore details to come closer to the event\, but if you’re eager to learn more right now\, get in touch with The Dive Shop at 403-243-4616)
URL:https://underwateroutlaws.com/events/the-dive-shop-spring-lake-clean-up/
LOCATION:Lake Chaparral\, 225 Chaparral Dive SE\, Calgary\, Ab\, Canada
CATEGORIES:Diving Events
ATTACH;FMTTYPE=image/jpeg:https://underwateroutlaws.com/wp-content/uploads/2024/04/DS_Logo_col-e1721096354759.jpg
ORGANIZER;CN="The Dive Shop":MAILTO:scuba@diveshopscuba.com
END:VEVENT
END:VCALENDAR