BEGIN:VCALENDAR
VERSION:2.0
PRODID:-//The Underwater Outlaws - ECPv6.15.20//NONSGML v1.0//EN
CALSCALE:GREGORIAN
METHOD:PUBLISH
X-ORIGINAL-URL:https://underwateroutlaws.com
X-WR-CALDESC:Events for The Underwater Outlaws
REFRESH-INTERVAL;VALUE=DURATION:PT1H
X-Robots-Tag:noindex
X-PUBLISHED-TTL:PT1H
BEGIN:VTIMEZONE
TZID:America/Denver
BEGIN:DAYLIGHT
TZOFFSETFROM:-0700
TZOFFSETTO:-0600
TZNAME:MDT
DTSTART:20250309T090000
END:DAYLIGHT
BEGIN:STANDARD
TZOFFSETFROM:-0600
TZOFFSETTO:-0700
TZNAME:MST
DTSTART:20251102T080000
END:STANDARD
BEGIN:DAYLIGHT
TZOFFSETFROM:-0700
TZOFFSETTO:-0600
TZNAME:MDT
DTSTART:20260308T090000
END:DAYLIGHT
BEGIN:STANDARD
TZOFFSETFROM:-0600
TZOFFSETTO:-0700
TZNAME:MST
DTSTART:20261101T080000
END:STANDARD
BEGIN:DAYLIGHT
TZOFFSETFROM:-0700
TZOFFSETTO:-0600
TZNAME:MDT
DTSTART:20270314T090000
END:DAYLIGHT
BEGIN:STANDARD
TZOFFSETFROM:-0600
TZOFFSETTO:-0700
TZNAME:MST
DTSTART:20271107T080000
END:STANDARD
END:VTIMEZONE
BEGIN:VEVENT
DTSTART;TZID=America/Denver:20260621T100000
DTEND;TZID=America/Denver:20260621T150000
DTSTAMP:20260424T123531
CREATED:20230503T020241Z
LAST-MODIFIED:20260120T060208Z
UID:362-1782036000-1782054000@underwateroutlaws.com
SUMMARY:Father's Day Dive
DESCRIPTION:Forget-me-not Pond\nLOCATION: Forget-Me-Not Pond\, past Bragg Creek\, end of Hwy 66. \nSCHEDULE:\n10:00am – Meet at Forget-Me-Not Pond and gear up\n10:45am – Dive briefing\n2:00pm – Second dive (if we’re not frozen!) \nHave a Dad? Are a Dad? The Underwater Outlaws will be hosting a dive event on Fathers Day at ForgetMeNot Pond near Bragg Creek. We plan to have some fun and games & a general good time. Look forward to seeing you there!
URL:https://underwateroutlaws.com/events/fathers-day-dive/
LOCATION:Forget-Me-Not Pond\, Forgetmenot Pond\, Alberta\, Canada
CATEGORIES:Diving Events
ATTACH;FMTTYPE=image/png:https://underwateroutlaws.com/wp-content/uploads/2024/03/Event-Feature-day.png
ORGANIZER;CN="Ken Benoy":MAILTO:ken@underwateroutlaws.com
END:VEVENT
END:VCALENDAR