BEGIN:VCALENDAR
VERSION:2.0
PRODID:-//The Underwater Outlaws - ECPv6.15.20//NONSGML v1.0//EN
CALSCALE:GREGORIAN
METHOD:PUBLISH
X-WR-CALNAME:The Underwater Outlaws
X-ORIGINAL-URL:https://underwateroutlaws.com
X-WR-CALDESC:Events for The Underwater Outlaws
REFRESH-INTERVAL;VALUE=DURATION:PT1H
X-Robots-Tag:noindex
X-PUBLISHED-TTL:PT1H
BEGIN:VTIMEZONE
TZID:America/Denver
BEGIN:DAYLIGHT
TZOFFSETFROM:-0700
TZOFFSETTO:-0600
TZNAME:MDT
DTSTART:20240310T090000
END:DAYLIGHT
BEGIN:STANDARD
TZOFFSETFROM:-0600
TZOFFSETTO:-0700
TZNAME:MST
DTSTART:20241103T080000
END:STANDARD
BEGIN:DAYLIGHT
TZOFFSETFROM:-0700
TZOFFSETTO:-0600
TZNAME:MDT
DTSTART:20250309T090000
END:DAYLIGHT
BEGIN:STANDARD
TZOFFSETFROM:-0600
TZOFFSETTO:-0700
TZNAME:MST
DTSTART:20251102T080000
END:STANDARD
BEGIN:DAYLIGHT
TZOFFSETFROM:-0700
TZOFFSETTO:-0600
TZNAME:MDT
DTSTART:20260308T090000
END:DAYLIGHT
BEGIN:STANDARD
TZOFFSETFROM:-0600
TZOFFSETTO:-0700
TZNAME:MST
DTSTART:20261101T080000
END:STANDARD
END:VTIMEZONE
BEGIN:VEVENT
DTSTART;TZID=America/Denver:20251018T100000
DTEND;TZID=America/Denver:20251018T150000
DTSTAMP:20260424T175144
CREATED:20230503T024257Z
LAST-MODIFIED:20250129T020204Z
UID:390-1760781600-1760799600@underwateroutlaws.com
SUMMARY:Underwater Pumpkin Carving
DESCRIPTION:Pumpkin Carving\nWHERE: Lake Chaparral Community Centre – 225 Chaparral Drive SE\, Calgary AB \nWHO: Underwater Outlaws Scuba Social Club Members \n\nDivers must be paid up club members in good standing – Membership renewals online or cash on the beach – $40.00\nNew members – Please join the club online in advance.\n\nWHAT: Underwater Pumpkin Carving. \n\nBring your own pumpkin and carving tools.\nBring a bag to collect your pumpkin guts underwater. They float.\nYou can draw on your pumpkin before the dive\, but you cannot cut your pumpkin before the dive.\n\nTIME: 9:30am to 10:00am\, Registration\, liability waivers\, membership confirmation and gear up. \n\n10:30 am Sharp – Dive briefing & buddy teams.\n10:45 to 11:45 – Dive and Carve\n12:00 noon: Hot Dogs and Hot Chocolate\n12:30 – Pumpkin judging and group photos\n\nPRIZE: There is a prize for the best pumpkin. \nWEATHER: if it is snowing this event is canceled. If it’s raining this event is a GO. \nRSVP: through the Face Book Event so we know how many to expect. Please help us promote the event by sharing the Facebook event and inviting your buddies. For more information check the Underwater Outlaws Facebook Group page.
URL:https://underwateroutlaws.com/events/underwater-pumpkin-carving/
LOCATION:Lake Chaparral Community Centre\, 225 Chaparral Drive SE\, Calgary\, Alberta\, Canada
CATEGORIES:Diving Events
ATTACH;FMTTYPE=image/png:https://underwateroutlaws.com/wp-content/uploads/2024/03/Event-Feature-day.png
END:VEVENT
END:VCALENDAR