BEGIN:VCALENDAR
VERSION:2.0
PRODID:-//The Underwater Outlaws - ECPv6.15.20//NONSGML v1.0//EN
CALSCALE:GREGORIAN
METHOD:PUBLISH
X-ORIGINAL-URL:https://underwateroutlaws.com
X-WR-CALDESC:Events for The Underwater Outlaws
REFRESH-INTERVAL;VALUE=DURATION:PT1H
X-Robots-Tag:noindex
X-PUBLISHED-TTL:PT1H
BEGIN:VTIMEZONE
TZID:America/Denver
BEGIN:DAYLIGHT
TZOFFSETFROM:-0700
TZOFFSETTO:-0600
TZNAME:MDT
DTSTART:20250309T090000
END:DAYLIGHT
BEGIN:STANDARD
TZOFFSETFROM:-0600
TZOFFSETTO:-0700
TZNAME:MST
DTSTART:20251102T080000
END:STANDARD
BEGIN:DAYLIGHT
TZOFFSETFROM:-0700
TZOFFSETTO:-0600
TZNAME:MDT
DTSTART:20260308T090000
END:DAYLIGHT
BEGIN:STANDARD
TZOFFSETFROM:-0600
TZOFFSETTO:-0700
TZNAME:MST
DTSTART:20261101T080000
END:STANDARD
BEGIN:DAYLIGHT
TZOFFSETFROM:-0700
TZOFFSETTO:-0600
TZNAME:MDT
DTSTART:20270314T090000
END:DAYLIGHT
BEGIN:STANDARD
TZOFFSETFROM:-0600
TZOFFSETTO:-0700
TZNAME:MST
DTSTART:20271107T080000
END:STANDARD
END:VTIMEZONE
BEGIN:VEVENT
DTSTART;VALUE=DATE:20260724
DTEND;VALUE=DATE:20260727
DTSTAMP:20260424T140013
CREATED:20230503T025321Z
LAST-MODIFIED:20260120T061024Z
UID:397-1784851200-1785110399@underwateroutlaws.com
SUMMARY:Twin Lakes Camping & Scuba Weekend
DESCRIPTION:With the Wing Divers Scuba Club\nUnderwater Outlaws and Wing Divers Camping / SCUBA Weekend \nWHO: Underwater Outlaws Scuba Social Club Members and their Guests\, Wing Divers Scuba Social Club and their guests\nNew members welcome – (New friends and Dive Buddies provided)\nWHAT: Camping\, Recreational Diving\, Pancake Breakfast\, Pot Luck Dinner\, Fireside Stories\, Lots of Fun for Divers and non-diving campers alike.\nWHEN: Camp fire Friday night and Saturday night\nPot Luck Dinner Saturday evening at 7:00 pm\nDiving Saturday and Sunday\n(A map to the chicken will be provided.)\nCAMPING: Lions Pioneer Park Campground in the Community of Winfield. We are in the unreserved group area. Look for the dive flag. The group site does not have power water or sewer. The campground does have showers. Most campers arrive after 5:00 pm on Friday.\nDIVE PARK: Twin Lakes is about 3 Kms East of Winfield\, south of # 13 highway. Look for the Green Atco trailer. The water is cold below 20 feet. Max depth is 110 feet\, but most of the things to see are above 45 feet. A map of the dive park will be provided. Lots to see.\nPOTLUCK DINNER: Saturday evening at 7:00 pm at the group campsite in Lions Pioneer Park Campground in Winfield. Our potluck dinner is a wonderful gathering of hungry divers and guests\, with tons of amazing food. This is the part of the weekend where the group really comes together to laugh\, relax\, tease\, re-hash the day\, plan more diving\, swap tall tales\, meet new dive buddies and build great friendships. Bring your favorite campfire food and stories to share. Some folks bring deserts\, some bring a meat dish\, some bring salads\, and some bring veggies or carbs. We never know what’s for supper\, but it’s always good\, and there’s always lots to eat.\nWe try to eat as close to 7:00 as possible. Allow extra cooking time as BBQs and campfires take longer than the stove at home.\nCOST: Each camper pays their own camping fees and brings a dish for the Potluck. \nREQUEST: Help us promote this event by forwarding this info to your dive buddies and bringing a friend. Also\, please RSVP on the Facebook event web page so others see how popular this trip is\, and we can estimate how many people to expect. \nWatch the Underwater Outlaws Face Book Events page for updates. Post your questions and comments on the Underwater Outlaws Facebook Events page OR send an e-mail to volunteer coordinator.
URL:https://underwateroutlaws.com/events/twin-lakes-camping-scuba-weekend/
LOCATION:Twin Lakes\, Winfield\, Alberta\, Canada
CATEGORIES:Camping Events
ATTACH;FMTTYPE=image/png:https://underwateroutlaws.com/wp-content/uploads/2024/03/Event-Feature-camp.png
END:VEVENT
END:VCALENDAR